BEGIN:VCALENDAR
VERSION:2.0
PRODID:-//https://plateaupicard.com///NONSGML kigkonsult.se iCalcreator 2.10.15//
METHOD:PUBLISH
BEGIN:VEVENT
UID:20260423T120512CEST-8954lWfjtd@https://plateaupicard.com/
DTSTAMP:20260423T100512Z
DESCRIPTION:La Société historique de Maignelay-Montigny organise une visite
  du Musée de l'Archéologie de Vendeuil-Caply\nVisite guidée de l'expositio
 n temporaire : Mon précieux ! Parures et bijoux mérovingiens\n13 h 30 : dé
 part de Maignelay-Montigny\, place de la Gare pour le co-voiturage\n14 h 0
 0 : visite guidée du Musée Archéologique de l'Oise - 1\, rue Les Marmouset
 s - Vendeuil-Caply\nEntrée gratuite pour les adhérents de la SHMM sinon 3 
 € par personne (paiement sur place)\nLa SHMM prend en charge le coût de la
  visite guidée.\nRenseignements et réservations : 06.64.34.64.71 ou contac
 t-shmm@sfr.fr&nbsp\; https://plateaupicard.com/component/rseventspro/evene
 ment/40678-visite-guidee-organisee-par-la-societe-historique-de-maignelay-
 montigny?Itemid=412
DTSTART:20260516T120000Z
DTEND:20260516T160000Z
LOCATION:Vendeuil-Caply (60120 Vendeuil-Caply\, France)
SUMMARY:Visite guidée organisée par la Société historique de Maignelay-Mont
 igny
URL:https://plateaupicard.com/component/rseventspro/evenement/40678-visite-
 guidee-organisee-par-la-societe-historique-de-maignelay-montigny?Itemid=41
 2
END:VEVENT
END:VCALENDAR
