BEGIN:VCALENDAR
VERSION:2.0
PRODID:-//https://plateaupicard.com///NONSGML kigkonsult.se iCalcreator 2.10.15//
METHOD:PUBLISH
BEGIN:VEVENT
UID:20260419T181159CEST-2708uVo8Su@https://plateaupicard.com/
DTSTAMP:20260419T161159Z
DESCRIPTION:Nous vous proposons une petite déambulation dans le beau villag
 e du Plessier-sur-Bulles pour une découverte du patrimoine local\, en pass
 ant par la chèvrerie! A vivre en famille ! Cette activité vous est proposé
 e par le Conservatoire d'espaces naturels des Hauts-de-France. https://pla
 teaupicard.com/component/rseventspro/evenement/40669-des-plantes-des-papil
 lons-et-des-chevres?Itemid=412
DTSTART:20260708T093000Z
DTEND:20260708T120000Z
LOCATION:Lieu Des plantes\, des papillons et des chèvres ! (Le Cul de Lampe
  60130 LE PLESSIER-SUR-BULLES)
SUMMARY:Des plantes\, des papillons et des chèvres !
URL:https://plateaupicard.com/component/rseventspro/evenement/40669-des-pla
 ntes-des-papillons-et-des-chevres?Itemid=412
END:VEVENT
END:VCALENDAR
