BEGIN:VCALENDAR
VERSION:2.0
PRODID:-//https://plateaupicard.com///NONSGML kigkonsult.se iCalcreator 2.10.15//
METHOD:PUBLISH
BEGIN:VEVENT
UID:20260419T163156CEST-6988m3VFre@https://plateaupicard.com/
DTSTAMP:20260419T143156Z
DESCRIPTION: https://plateaupicard.com/component/rseventspro/evenement/4059
 3-creation-du-geant-de-saint-just-en-chaussee?Itemid=412
DTSTART:20260506T123000Z
DTEND:20260506T143000Z
LOCATION:Saint Just en Chaussée (60130 Saint-Just-en-Chaussée\, France)
SUMMARY:'Création du géant de Saint Just en chaussée'
URL:https://plateaupicard.com/component/rseventspro/evenement/40593-creatio
 n-du-geant-de-saint-just-en-chaussee?Itemid=412
END:VEVENT
END:VCALENDAR
