BEGIN:VCALENDAR
VERSION:2.0
PRODID:-//https://plateaupicard.com///NONSGML kigkonsult.se iCalcreator 2.10.15//
METHOD:PUBLISH
BEGIN:VEVENT
UID:20260419T180932CEST-54122r8S3k@https://plateaupicard.com/
DTSTAMP:20260419T160932Z
DESCRIPTION:organisée par Ambiance et joie de vivre. Années 80 à nos jours 
 avec DJ Christopher. Ambiance assurée. Tarif Adultes: 6 euros. Gratuit pou
 r les moins de 12 ans accompagné. Réservation avant le 28 Août 26. Buvette
  et petite restauration. Tél 06 88 80 93 85 ou 03 44 78 64 42. https://pla
 teaupicard.com/component/rseventspro/evenement/40569-soiree-annees-80-a-no
 s-jours?Itemid=412
DTSTART:20260829T190000Z
DTEND:20260830T003000Z
LOCATION:Wavignies\, salle de l'Agora (45 Rue Lucien Sueur\, 60130 Wavignie
 s\, France)
SUMMARY:Soirée Années 80 à nos jours
URL:https://plateaupicard.com/component/rseventspro/evenement/40569-soiree-
 annees-80-a-nos-jours?Itemid=412
END:VEVENT
END:VCALENDAR
