BEGIN:VCALENDAR
VERSION:2.0
PRODID:-//https://plateaupicard.com///NONSGML kigkonsult.se iCalcreator 2.10.15//
METHOD:PUBLISH
BEGIN:VEVENT
UID:20260419T180948CEST-1946hMVv1V@https://plateaupicard.com/
DTSTAMP:20260419T160948Z
DESCRIPTION:L'ASELLE vous propose une croisière déjeuner sur la Somme avec 
 le bateau Le Picardie départ 9h00.\nEt à 10h30 Visite des Hortillonnages e
 n barques.12h15 Déjeuner croisière.\n16h00 Visite de la chocolaterie et re
 tour à Lieuvillers vers 19h00. https://plateaupicard.com/component/rsevent
 spro/evenement/40553-croisiere-dejeuner-sur-le-picardie?Itemid=412
DTSTART:20260531T070000Z
DTEND:20260531T170000Z
LOCATION:Lieuvillers\, place de l'église (60130 Lieuvillers\, France)
SUMMARY:Croisière déjeuner sur le PICARDIE
URL:https://plateaupicard.com/component/rseventspro/evenement/40553-croisie
 re-dejeuner-sur-le-picardie?Itemid=412
END:VEVENT
END:VCALENDAR
