BEGIN:VCALENDAR
VERSION:2.0
PRODID:-//https://plateaupicard.com///NONSGML kigkonsult.se iCalcreator 2.10.15//
METHOD:PUBLISH
BEGIN:VEVENT
UID:20260419T150905CEST-6527v7ptZo@https://plateaupicard.com/
DTSTAMP:20260419T130905Z
DESCRIPTION:Organisée par l'ASELLE. Marche d'environ 2h00 dans les chemins 
 alentours de Lieuvillers.Rendez-vous à 9h00 pour un départ à 9h30.Suivi au
  retour d'un moment de convivialité.Inscription gratuite. https://plateaup
 icard.com/component/rseventspro/evenement/40551-randonnee-autour-de-lieuvi
 llers?Itemid=412
DTSTART:20260517T070000Z
DTEND:20260517T110000Z
LOCATION:lieuvillers\, salle polyvalente (60130 Lieuvillers\, France)
SUMMARY:Randonnée autour de Lieuvillers
URL:https://plateaupicard.com/component/rseventspro/evenement/40551-randonn
 ee-autour-de-lieuvillers?Itemid=412
END:VEVENT
END:VCALENDAR
