BEGIN:VCALENDAR
VERSION:2.0
PRODID:-//https://plateaupicard.com///NONSGML kigkonsult.se iCalcreator 2.10.15//
METHOD:PUBLISH
BEGIN:VEVENT
UID:20260419T180828CEST-5966Ke6ZG1@https://plateaupicard.com/
DTSTAMP:20260419T160828Z
DESCRIPTION:Le Comité des Fêtes de Maignelay-Montigny vous invite à venir d
 anser\nle dimanche 22 novembre de 14h30 à 19h30\nThé dansant animé par Arn
 aud GUIMARD\nSalle Marcel Ville à Maignelay-Montigny\nRenseignements et ré
 servations au 06 75 99 22 73 - comite.des.fetes-maignelay@sfr.fr\nEntrée =
  12 € - Buvette\, pâtisseries https://plateaupicard.com/component/rsevents
 pro/evenement/40516-the-dansant-a-maignelay-montigny?Itemid=412
DTSTART:20261122T133000Z
DTEND:20261122T183000Z
LOCATION:Maignelay-Montigny\, salle Marcel Ville (Sq. Marcel Bussy\, 60420 
 Maignelay-Montigny\, France)
SUMMARY:Thé dansant à Maignelay-Montigny
URL:https://plateaupicard.com/component/rseventspro/evenement/40516-the-dan
 sant-a-maignelay-montigny?Itemid=412
END:VEVENT
END:VCALENDAR
