BEGIN:VCALENDAR
VERSION:2.0
PRODID:-//https://plateaupicard.com///NONSGML kigkonsult.se iCalcreator 2.10.15//
METHOD:PUBLISH
BEGIN:VEVENT
UID:20260421T113517CEST-3994d0ToMK@https://plateaupicard.com/
DTSTAMP:20260421T093517Z
DESCRIPTION:Brocante&nbsp\; https://plateaupicard.com/component/rseventspro
 /evenement/40511-brocante-leglantiers?Itemid=412
DTSTART;VALUE=DATE:20260508
LOCATION:Léglantiers (60420 Léglantiers\, France)
SUMMARY:Brocante Léglantiers 
URL:https://plateaupicard.com/component/rseventspro/evenement/40511-brocant
 e-leglantiers?Itemid=412
END:VEVENT
END:VCALENDAR
