BEGIN:VCALENDAR
VERSION:2.0
PRODID:-//https://plateaupicard.com///NONSGML kigkonsult.se iCalcreator 2.10.15//
METHOD:PUBLISH
BEGIN:VEVENT
UID:20260419T194355CEST-7139vnBhf4@https://plateaupicard.com/
DTSTAMP:20260419T174355Z
DESCRIPTION:Concert Dany O'FriancoTrio folklore celtique\nAbbaye de St Mart
 in aux Bois à 16h00 https://plateaupicard.com/component/rseventspro/evenem
 ent/40446-concert?Itemid=412
DTSTART:20260510T140000Z
DTEND:20260510T160000Z
LOCATION:Abbaye de Saint-Martin-aux-Bois (520 Rue de l'Abbaye\, 60420 Saint
 -Martin-aux-Bois\, France)
SUMMARY:Concert 
URL:https://plateaupicard.com/component/rseventspro/evenement/40446-concert
 ?Itemid=412
END:VEVENT
END:VCALENDAR
