BEGIN:VCALENDAR
VERSION:2.0
PRODID:-//https://plateaupicard.com///NONSGML kigkonsult.se iCalcreator 2.10.15//
METHOD:PUBLISH
BEGIN:VEVENT
UID:20260419T180609CEST-4790SfHKS8@https://plateaupicard.com/
DTSTAMP:20260419T160609Z
DESCRIPTION:L'Association Voyage Tricotoise organise un séjour en Andalousi
 e du 7 octobre 2026 au 14 octobre 2026 au prix de 865 euros par personne. 
 https://plateaupicard.com/component/rseventspro/evenement/40402-sejour-and
 alousie?Itemid=412
DTSTART;VALUE=DATE:20261007
LOCATION:Tricot (60420 Tricot\, France)
SUMMARY:séjour Andalousie
URL:https://plateaupicard.com/component/rseventspro/evenement/40402-sejour-
 andalousie?Itemid=412
END:VEVENT
END:VCALENDAR
