BEGIN:VCALENDAR
VERSION:2.0
PRODID:-//https://plateaupicard.com///NONSGML kigkonsult.se iCalcreator 2.10.15//
METHOD:PUBLISH
BEGIN:VEVENT
UID:20260419T134547CEST-1666Tvgoaj@https://plateaupicard.com/
DTSTAMP:20260419T114547Z
DESCRIPTION:Brocante place des fêtes de Tricot\nDe 6h30 à 18h30\nRestaurati
 on sur place\nRenseignements linarda@orange.fr https://plateaupicard.com/c
 omponent/rseventspro/evenement/40033-brocante?Itemid=412
DTSTART:20260501T043005Z
DTEND:20260501T170005Z
LOCATION:Tricot (60420 Tricot\, France)
SUMMARY:Brocante
URL:https://plateaupicard.com/component/rseventspro/evenement/40033-brocant
 e?Itemid=412
END:VEVENT
END:VCALENDAR
