BEGIN:VCALENDAR
VERSION:2.0
PRODID:-//https://plateaupicard.com///NONSGML kigkonsult.se iCalcreator 2.10.15//
METHOD:PUBLISH
BEGIN:VEVENT
UID:20260419T152532CEST-5697tGlr4M@https://plateaupicard.com/
DTSTAMP:20260419T132532Z
DESCRIPTION:organisée par l'association Ambiance et Joie de vivre. Lâcher d
 e 100 Kg de truites. Etang-chemin du pont de l'enfer à Breteuil 60120. 30 
 euros par pêcheur. Prises illimitées. Accueil des pêcheurs à 07h15. Début 
 de la pêche à 08h00. Glacière obligatoire pour la conservation du poisson.
  1 canne ou 1 lancer par pêcheur. Palette\, cuillette\, asticot et amorçag
 e interdits. Chacun garde sa pêche\, aucun partage. Pas de restauration su
 r place. Buvette au bar de l'étang.\nRéservation et paiement obligatoire a
 vant le Vendredi 12 Juin 26. Tél 06 88 80 93 85 / 03 44 78 64 42. https://
 plateaupicard.com/component/rseventspro/evenement/39869-journee-de-peche-a
 -la-truite?Itemid=412
DTSTART;VALUE=DATE:20260614
LOCATION:Nourard-le-Franc (60130 Nourard-le-Franc\, France)
SUMMARY:Journée de pêche à la truite
URL:https://plateaupicard.com/component/rseventspro/evenement/39869-journee
 -de-peche-a-la-truite?Itemid=412
END:VEVENT
END:VCALENDAR
