BEGIN:VCALENDAR
VERSION:2.0
PRODID:-//https://plateaupicard.com///NONSGML kigkonsult.se iCalcreator 2.10.15//
METHOD:PUBLISH
BEGIN:VEVENT
UID:20260419T151515CEST-5556XV6EFa@https://plateaupicard.com/
DTSTAMP:20260419T131515Z
DESCRIPTION: https://plateaupicard.com/component/rseventspro/evenement/3963
 7-brocante-domfront?Itemid=412
DTSTART;VALUE=DATE:20260517
LOCATION:Domfront (60420 Domfront\, France)
SUMMARY:Brocante Domfront
URL:https://plateaupicard.com/component/rseventspro/evenement/39637-brocant
 e-domfront?Itemid=412
END:VEVENT
END:VCALENDAR
